BEGIN:VCALENDAR
VERSION:2.0
PRODID:-//wp-events-plugin.com//7.2.3.1//EN
TZID:Europe/London
X-WR-TIMEZONE:Europe/London
BEGIN:VEVENT
UID:1-35@bathgateband.org.uk
DTSTART;TZID=Europe/London;VALUE=DATE:20231118
DTEND;TZID=Europe/London;VALUE=DATE:20231119
DTSTAMP:20230912T090232Z
URL:https://bathgateband.org.uk/events-2/scottish-challenge-shield-contest
 /
SUMMARY:Scottish Challenge Shield Contest
DESCRIPTION:
ATTACH;FMTTYPE=image/jpeg:https://bathgateband.org.uk/wp-content/uploads/2
 023/09/cropped-Bathgate-Band-sqr.png
CATEGORIES:Contest
LOCATION:Perth Concert Hall\, Mill Street\, Perth\, Select a State or Provi
 nce:\, PH1 5HZ\, United Kingdom
GEO:56.394994;-3.430838
X-APPLE-STRUCTURED-LOCATION;VALUE=URI;X-ADDRESS=Mill Street\, Perth\, Selec
 t a State or Province:\, PH1 5HZ\, United Kingdom;X-APPLE-RADIUS=100;X-TIT
 LE=Perth Concert Hall:geo:56.394994,-3.430838
END:VEVENT
BEGIN:VTIMEZONE
TZID:Europe/London
X-LIC-LOCATION:Europe/London
BEGIN:STANDARD
DTSTART:20231029T010000
TZOFFSETFROM:+0100
TZOFFSETTO:+0000
TZNAME:GMT
END:STANDARD
END:VTIMEZONE
END:VCALENDAR