BEGIN:VCALENDAR
VERSION:2.0
PRODID:-//wp-events-plugin.com//7.2.3.1//EN
TZID:Europe/London
X-WR-TIMEZONE:Europe/London
BEGIN:VEVENT
UID:1-32@bathgateband.org.uk
DTSTART;TZID=Europe/London:20231028T193000
DTEND;TZID=Europe/London:20231028T193000
DTSTAMP:20230926T190802Z
URL:https://bathgateband.org.uk/events-2/joint-concert-with-broxburn-sings
 -choir/
SUMMARY:Joint Concert with Broxburn Sings Choir
DESCRIPTION:Come along and enjoy our joint concert with Broxburn Sings.\n\n
 Tickets for this event are available through the Broxburn Sings eTicket Hu
 b at https://www.etickethub.uk/broxburnsings/\n\nGerneral Admission:  £8
 .00\n12 Years &amp\; Under:  Free
ATTACH;FMTTYPE=image/jpeg:https://bathgateband.org.uk/wp-content/uploads/2
 023/09/cropped-Bathgate-Band-sqr.png
CATEGORIES:Concert,Fundraising
LOCATION:Canon Hoban Hall\, 34 West Main St\, Broxburn\, EH52 5RJ\, United 
 Kingdom
GEO:55.934279;-3.476246
X-APPLE-STRUCTURED-LOCATION;VALUE=URI;X-ADDRESS=34 West Main St\, Broxburn\
 , EH52 5RJ\, United Kingdom;X-APPLE-RADIUS=100;X-TITLE=Canon Hoban Hall:ge
 o:55.934279,-3.476246
END:VEVENT
BEGIN:VTIMEZONE
TZID:Europe/London
X-LIC-LOCATION:Europe/London
BEGIN:DAYLIGHT
DTSTART:20230326T020000
TZOFFSETFROM:+0000
TZOFFSETTO:+0100
TZNAME:BST
END:DAYLIGHT
END:VTIMEZONE
END:VCALENDAR