BEGIN:VCALENDAR
VERSION:2.0
PRODID:-//wp-events-plugin.com//7.2.3.1//EN
TZID:Europe/London
X-WR-TIMEZONE:Europe/London
BEGIN:VEVENT
UID:1-110@bathgateband.org.uk
DTSTART;TZID=Europe/London:20260613T123000
DTEND;TZID=Europe/London:20260613T150000
DTSTAMP:20260416T071803Z
URL:https://bathgateband.org.uk/events-2/east-calder-gala-day-2/
SUMMARY:East Calder Gala Day
DESCRIPTION:
ATTACH;FMTTYPE=image/jpeg:https://bathgateband.org.uk/wp-content/uploads/2
 023/09/cropped-Bathgate-Band-sqr.png
CATEGORIES:Public Event
LOCATION:East Calder\, Redcraig Road\, East Calder\, Lothian\, EH53 0QJ\, U
 nited Kingdom
GEO:55.888231;-3.459852
X-APPLE-STRUCTURED-LOCATION;VALUE=URI;X-ADDRESS=Redcraig Road\, East Calder
 \, Lothian\, EH53 0QJ\, United Kingdom;X-APPLE-RADIUS=100;X-TITLE=East Cal
 der:geo:55.888231,-3.459852
END:VEVENT
BEGIN:VTIMEZONE
TZID:Europe/London
X-LIC-LOCATION:Europe/London
BEGIN:DAYLIGHT
DTSTART:20260329T020000
TZOFFSETFROM:+0000
TZOFFSETTO:+0100
TZNAME:BST
END:DAYLIGHT
END:VTIMEZONE
END:VCALENDAR