BEGIN:VCALENDAR
VERSION:2.0
PRODID:-//wp-events-plugin.com//7.2.3.1//EN
TZID:Europe/London
X-WR-TIMEZONE:Europe/London
BEGIN:VEVENT
UID:1-95@bathgateband.org.uk
DTSTART;TZID=Europe/London:20251213T100000
DTEND;TZID=Europe/London:20251213T140000
DTSTAMP:20251201T140337Z
URL:https://bathgateband.org.uk/events-2/christmas-carols-at-ms-livingston
 /
SUMMARY:Christmas Carols at M&S Livingston
DESCRIPTION:Bathgate Band will be out and about in our community spreading 
 Christmas Cheer.\nPop along to hear the band\, and enjoy some live festive
  music. 🎺\n\nWe’d love to see you there🎄
ATTACH;FMTTYPE=image/jpeg:https://bathgateband.org.uk/wp-content/uploads/2
 023/09/cropped-Bathgate-Band-sqr.png
CATEGORIES:Fundraising
LOCATION:Marks & Spencer\, Livingston\, Unit F\, The Centre\, Livingston\, 
 EH54 6HR\, United Kingdom
GEO:55.884342;-3.513702
X-APPLE-STRUCTURED-LOCATION;VALUE=URI;X-ADDRESS=Unit F\, The Centre\, Livin
 gston\, EH54 6HR\, United Kingdom;X-APPLE-RADIUS=100;X-TITLE=Marks & Spenc
 er\, Livingston:geo:55.884342,-3.513702
END:VEVENT
BEGIN:VTIMEZONE
TZID:Europe/London
X-LIC-LOCATION:Europe/London
BEGIN:STANDARD
DTSTART:20251026T010000
TZOFFSETFROM:+0100
TZOFFSETTO:+0000
TZNAME:GMT
END:STANDARD
END:VTIMEZONE
END:VCALENDAR