BEGIN:VCALENDAR
VERSION:2.0
PRODID:-//wp-events-plugin.com//7.2.3.1//EN
TZID:Europe/London
X-WR-TIMEZONE:Europe/London
BEGIN:VEVENT
UID:1-106@bathgateband.org.uk
DTSTART;TZID=Europe/London:20260622T110000
DTEND;TZID=Europe/London:20260622T160000
DTSTAMP:20260223T153018Z
URL:https://bathgateband.org.uk/events-2/brass-at-beamish/
SUMMARY:Brass at Beamish
DESCRIPTION:Brass at Beamish 2026 - Beamish\n\nIt’s the battle of the bra
 ss bands\, as groups from the North East compete to be determined the best
 .\n\nOrganised by the Durham County Brass Band Association (DCBBA)\, the m
 useum will play host as competing bands perform a hymn and a march for an 
 independent adjudicator who will judge the performances. A short awards ce
 remony will follow\, with the first and second place bands from each secti
 on receiving an award.\n\nAs with all daytime events\, you can use your 
 Unlimited Pass or Friends of Beamish membership to enjoy this special e
 vent.
ATTACH;FMTTYPE=image/jpeg:https://bathgateband.org.uk/wp-content/uploads/2
 023/09/cropped-Bathgate-Band-sqr.png
CATEGORIES:Contest
LOCATION:Beamish Museum\, Beamish\, Stanley\, DH9 0RG\, United Kingdom
GEO:54.881813;-1.658481
X-APPLE-STRUCTURED-LOCATION;VALUE=URI;X-ADDRESS=Beamish\, Stanley\, DH9 0RG
 \, United Kingdom;X-APPLE-RADIUS=100;X-TITLE=Beamish Museum:geo:54.881813,
 -1.658481
END:VEVENT
BEGIN:VTIMEZONE
TZID:Europe/London
X-LIC-LOCATION:Europe/London
BEGIN:DAYLIGHT
DTSTART:20260329T020000
TZOFFSETFROM:+0000
TZOFFSETTO:+0100
TZNAME:BST
END:DAYLIGHT
END:VTIMEZONE
END:VCALENDAR